BEGIN:VCALENDAR
VERSION:2.0
PRODID:-//Praha Spa and Salt - ECPv6.15.17.1//NONSGML v1.0//EN
CALSCALE:GREGORIAN
METHOD:PUBLISH
X-WR-CALNAME:Praha Spa and Salt
X-ORIGINAL-URL:https://prahaspa.com
X-WR-CALDESC:Events for Praha Spa and Salt
REFRESH-INTERVAL;VALUE=DURATION:PT1H
X-Robots-Tag:noindex
X-PUBLISHED-TTL:PT1H
BEGIN:VTIMEZONE
TZID:America/New_York
BEGIN:DAYLIGHT
TZOFFSETFROM:-0500
TZOFFSETTO:-0400
TZNAME:EDT
DTSTART:20250309T070000
END:DAYLIGHT
BEGIN:STANDARD
TZOFFSETFROM:-0400
TZOFFSETTO:-0500
TZNAME:EST
DTSTART:20251102T060000
END:STANDARD
BEGIN:DAYLIGHT
TZOFFSETFROM:-0500
TZOFFSETTO:-0400
TZNAME:EDT
DTSTART:20260308T070000
END:DAYLIGHT
BEGIN:STANDARD
TZOFFSETFROM:-0400
TZOFFSETTO:-0500
TZNAME:EST
DTSTART:20261101T060000
END:STANDARD
BEGIN:DAYLIGHT
TZOFFSETFROM:-0500
TZOFFSETTO:-0400
TZNAME:EDT
DTSTART:20270314T070000
END:DAYLIGHT
BEGIN:STANDARD
TZOFFSETFROM:-0400
TZOFFSETTO:-0500
TZNAME:EST
DTSTART:20271107T060000
END:STANDARD
END:VTIMEZONE
BEGIN:VEVENT
DTSTART;TZID=America/New_York:20260425T100000
DTEND;TZID=America/New_York:20260425T110000
DTSTAMP:20260425T081711
CREATED:20260327T145249Z
LAST-MODIFIED:20260412T154302Z
UID:33052-1777111200-1777114800@prahaspa.com
SUMMARY:Salt Life Yoga in the Salt Cave
DESCRIPTION:Salt Life Yoga is a refreshing\, coastal-inspired practice that blends movement\, breath\, and the healing energy of the sea. Held in our salt cave\, this yoga experience invites grounding\, flow\, and a deep sense of calm. Rooted in nature\, it’s a space to move freely\, breathe deeply\, and reconnect with the rhythm of the earth and the self.\n60 minutes – $35 \n\n		\n		\n\n	Join 2 others! 	\n\n	\n\n		\n		\n		\n		\n			\n			\n	\n\n		First*\n		\n				\n						\n\n\n\n		Last*\n		\n				\n						\n\n\n\n		Email*\n		\n				\n						\n\n\n\n		Phone*\n		\n				\n						\n\n\n		\n\n		\n			Comments\n			\n				\n				If you are a human\, do not fill in this field \n			\n		\n\n		\n			\n		\n\n	\n\n	\n			\n\n\n		\n			Already registered?\n			Already registered? \n\n			\n				Use this tool to manage your registration. \n				\n\n					\n						\n							Enter your registered email address*
URL:https://prahaspa.com/event/salt-life-yoga-in-the-salt-cave-82/
END:VEVENT
BEGIN:VEVENT
DTSTART;TZID=America/New_York:20260426T100000
DTEND;TZID=America/New_York:20260426T110000
DTSTAMP:20260425T081711
CREATED:20260327T151221Z
LAST-MODIFIED:20260412T154229Z
UID:33054-1777197600-1777201200@prahaspa.com
SUMMARY:Salt Life Yoga in the Salt Cave
DESCRIPTION:Salt Life Yoga is a refreshing\, coastal-inspired practice that blends movement\, breath\, and the healing energy of the sea. Held in our salt cave\, this yoga experience invites grounding\, flow\, and a deep sense of calm. Rooted in nature\, it’s a space to move freely\, breathe deeply\, and reconnect with the rhythm of the earth and the self. \n60 minutes – $35 \n\n		\n		\n\n	Be the first! 	\n\n	\n\n		\n		\n		\n		\n			\n			\n	\n\n		First*\n		\n				\n						\n\n\n\n		Last*\n		\n				\n						\n\n\n\n		Email*\n		\n				\n						\n\n\n\n		Phone*\n		\n				\n						\n\n\n		\n\n		\n			Comments\n			\n				\n				If you are a human\, do not fill in this field \n			\n		\n\n		\n			\n		\n\n	\n\n	\n			\n\n\n		\n			Already registered?\n			Already registered? \n\n			\n				Use this tool to manage your registration. \n				\n\n					\n						\n							Enter your registered email address*
URL:https://prahaspa.com/event/salt-life-yoga-in-the-salt-cave-88/
END:VEVENT
BEGIN:VEVENT
DTSTART;TZID=America/New_York:20260427T100000
DTEND;TZID=America/New_York:20260427T110000
DTSTAMP:20260425T081711
CREATED:20260327T151447Z
LAST-MODIFIED:20260412T154140Z
UID:33056-1777284000-1777287600@prahaspa.com
SUMMARY:Breathwork Healing Session in the Salt Cave
DESCRIPTION:Elemental Rhythm Breathwork\nA guided journey combining music and powerful breathing techniques connected to the four elements. This practice helps regulate the nervous system\, release stored stress and emotions\, and create space for insight and inner balance. Each session weaves together breath\, meditation\, and integration—leaving you grounded\, clear\, and renewed.\n60 minutes – $40 \n\n		\n		\n\n	Be the first! 	\n\n	\n\n		\n		\n		\n		\n			\n			\n	\n\n		First*\n		\n				\n						\n\n\n\n		Last*\n		\n				\n						\n\n\n\n		Email*\n		\n				\n						\n\n\n\n		Phone*\n		\n				\n						\n\n\n		\n\n		\n			Comments\n			\n				\n				If you are a human\, do not fill in this field \n			\n		\n\n		\n			\n		\n\n	\n\n	\n			\n\n\n		\n			Already registered?\n			Already registered? \n\n			\n				Use this tool to manage your registration. \n				\n\n					\n						\n							Enter your registered email address*
URL:https://prahaspa.com/event/breathwork-healing-session-in-the-salt-cave-40/
END:VEVENT
BEGIN:VEVENT
DTSTART;TZID=America/New_York:20260428T170000
DTEND;TZID=America/New_York:20260428T180000
DTSTAMP:20260425T081711
CREATED:20260327T151608Z
LAST-MODIFIED:20260412T153953Z
UID:33058-1777395600-1777399200@prahaspa.com
SUMMARY:Sound Bath in the Salt Cave
DESCRIPTION:Step into the healing atmosphere of our Himalayan Salt Cave and experience deep relaxation with a Sound Bath. Surrounded by the gentle energy of salt therapy\, you will immerse in the soothing vibrations of crystal signing bowls\, gongs\, chimes and harmonic instruments.\nAs the sounds wash over you\, your body and mind naturally shift into a state of calm. The tones help release tension\, quiet the mind\, and restore balance\, while salt-rich air supports easier breathing and overall wellness.\n60 minutes -$45 \n\n		\n		\n\n	Be the first! 	\n\n	\n\n		\n		\n		\n		\n			\n			\n	\n\n		First*\n		\n				\n						\n\n\n\n		Last*\n		\n				\n						\n\n\n\n		Email*\n		\n				\n						\n\n\n\n		Phone*\n		\n				\n						\n\n\n		\n\n		\n			Comments\n			\n				\n				If you are a human\, do not fill in this field \n			\n		\n\n		\n			\n		\n\n	\n\n	\n			\n\n\n		\n			Already registered?\n			Already registered? \n\n			\n				Use this tool to manage your registration. \n				\n\n					\n						\n							Enter your registered email address*
URL:https://prahaspa.com/event/sound-bath-in-the-salt-cave-54/
END:VEVENT
BEGIN:VEVENT
DTSTART;TZID=America/New_York:20260429T180000
DTEND;TZID=America/New_York:20260429T190000
DTSTAMP:20260425T081711
CREATED:20260327T152029Z
LAST-MODIFIED:20260412T153752Z
UID:33060-1777485600-1777489200@prahaspa.com
SUMMARY:Mind Body Physique Yoga in the Salt Cave
DESCRIPTION:Mind\, Body\, and Physique Yoga is a dynamic practice that blends mindful movement\, breathwork\, and strength training. It’s designed to build physical tone\, improve mental clarity\, and deepen the connection between body and mind. Whether you’re seeking balance\, focus\, or a stronger physique\, this approach offers a complete path to wellness.\n60 minutes – $35 \n\n		\n		\n\n	Be the first! 	\n\n	\n\n		\n		\n		\n		\n			\n			\n	\n\n		First*\n		\n				\n						\n\n\n\n		Last*\n		\n				\n						\n\n\n\n		Email*\n		\n				\n						\n\n\n\n		Phone*\n		\n				\n						\n\n\n		\n\n		\n			Comments\n			\n				\n				If you are a human\, do not fill in this field \n			\n		\n\n		\n			\n		\n\n	\n\n	\n			\n\n\n		\n			Already registered?\n			Already registered? \n\n			\n				Use this tool to manage your registration. \n				\n\n					\n						\n							Enter your registered email address*
URL:https://prahaspa.com/event/mind-body-physique-yoga-in-the-salt-cave-42/
END:VEVENT
BEGIN:VEVENT
DTSTART;TZID=America/New_York:20260430T180000
DTEND;TZID=America/New_York:20260430T190000
DTSTAMP:20260425T081711
CREATED:20260327T152116Z
LAST-MODIFIED:20260412T153710Z
UID:33062-1777572000-1777575600@prahaspa.com
SUMMARY:Breathwork & Yoga with Savasana Sound Bath in the Salt Cave
DESCRIPTION:This calming practice combines conscious breathwork\, gentle yoga\, and a deeply restorative savasana enhanced by a soothing sound bath. Designed to release tension\, quiet the mind\, and reset the nervous system\, it’s an ideal way to reconnect with your inner stillness. Let breath\, movement\, and sound guide you into a state of deep relaxation and balance. \n60 minutes – $35 \n\n		\n		\n\n	Be the first! 	\n\n	\n\n		\n		\n		\n		\n			\n			\n	\n\n		First*\n		\n				\n						\n\n\n\n		Last*\n		\n				\n						\n\n\n\n		Email*\n		\n				\n						\n\n\n\n		Phone*\n		\n				\n						\n\n\n		\n\n		\n			Comments\n			\n				\n				If you are a human\, do not fill in this field \n			\n		\n\n		\n			\n		\n\n	\n\n	\n			\n\n\n		\n			Already registered?\n			Already registered? \n\n			\n				Use this tool to manage your registration. \n				\n\n					\n						\n							Enter your registered email address*
URL:https://prahaspa.com/event/breathwork-yoga-with-savasana-sound-bath-in-the-salt-cave-42/
END:VEVENT
END:VCALENDAR